BEGIN:VCALENDAR
VERSION:2.0
PRODID:-//Núcleo de Extensão em Administração da UFBA - ECPv6.2.6//NONSGML v1.0//EN
CALSCALE:GREGORIAN
METHOD:PUBLISH
X-ORIGINAL-URL:https://nea.adm.ufba.br
X-WR-CALDESC:Eventos para Núcleo de Extensão em Administração da UFBA
REFRESH-INTERVAL;VALUE=DURATION:PT1H
X-Robots-Tag:noindex
X-PUBLISHED-TTL:PT1H
BEGIN:VTIMEZONE
TZID:America/Bahia
BEGIN:STANDARD
TZOFFSETFROM:-0300
TZOFFSETTO:-0300
TZNAME:-03
DTSTART:20220101T000000
END:STANDARD
END:VTIMEZONE
BEGIN:VEVENT
DTSTART;TZID=America/Bahia:20221124T100000
DTEND;TZID=America/Bahia:20221124T123000
DTSTAMP:20260422T102619
CREATED:20221118T110025Z
LAST-MODIFIED:20221121T173244Z
UID:577-1669284000-1669293000@nea.adm.ufba.br
SUMMARY:Diálogos EAUFBA: Ansiedade\, bem-estar e as possibilidades de cuidado e acolhimento nas IES Públicas
DESCRIPTION:
URL:https://nea.adm.ufba.br/evento/dialogos-eaufba-24-11-22/
LOCATION:Escola de Administração da UFBA\, Av. Reitor Miguel Calmon\, s/n\, Salvador\, Bahia\, 40110-903\, Brasil
CATEGORIES:Mesa redonda,Palestra
ATTACH;FMTTYPE=image/png:https://nea.adm.ufba.br/wp-content/uploads/2022/11/5.png
ORGANIZER;CN="NEA UFBA":MAILTO:nea@ufba.br
END:VEVENT
BEGIN:VEVENT
DTSTART;TZID=America/Bahia:20221109T085000
DTEND;TZID=America/Bahia:20221109T104000
DTSTAMP:20260422T102619
CREATED:20221101T150014Z
LAST-MODIFIED:20221121T173442Z
UID:527-1667983800-1667990400@nea.adm.ufba.br
SUMMARY:Diálogos EAUFBA: A Economia Baiana no Contexto da Pandemia
DESCRIPTION: 
URL:https://nea.adm.ufba.br/evento/dialogos-eaufba-09-11-22/
LOCATION:Escola de Administração da UFBA\, Av. Reitor Miguel Calmon\, s/n\, Salvador\, Bahia\, 40110-903\, Brasil
CATEGORIES:Debate,Palestra
ATTACH;FMTTYPE=image/png:https://nea.adm.ufba.br/wp-content/uploads/2022/11/5.png
ORGANIZER;CN="NEA UFBA":MAILTO:nea@ufba.br
END:VEVENT
END:VCALENDAR